BEGIN:VCALENDAR
VERSION:2.0
PRODID:-//Tier im Blick - ECPv4.5.13//NONSGML v1.0//EN
CALSCALE:GREGORIAN
METHOD:PUBLISH
X-WR-CALNAME:Tier im Blick
X-ORIGINAL-URL:https://tier-im-blick.de
X-WR-CALDESC:Events for Tier im Blick
BEGIN:VEVENT
DTSTART;VALUE=DATE:20260406
DTEND;VALUE=DATE:20260412
DTSTAMP:20260420T074747
CREATED:20251024T182604Z
LAST-MODIFIED:20251024T182604Z
UID:2031-1775433600-1776038399@tier-im-blick.de
SUMMARY:Urlaub
DESCRIPTION:
URL:https://tier-im-blick.de/monat/urlaub-52/
CATEGORIES:Urlaub
END:VEVENT
END:VCALENDAR